BEGIN:VCALENDAR
VERSION:2.0
PRODID:-//YinTai - ECPv5.12.2//NONSGML v1.0//EN
CALSCALE:GREGORIAN
METHOD:PUBLISH
X-WR-CALNAME:YinTai
X-ORIGINAL-URL:https://www.angeloformicola.com
X-WR-CALDESC:Eventi per YinTai
BEGIN:VTIMEZONE
TZID:Europe/Rome
BEGIN:DAYLIGHT
TZOFFSETFROM:+0100
TZOFFSETTO:+0200
TZNAME:CEST
DTSTART:20230326T010000
END:DAYLIGHT
BEGIN:STANDARD
TZOFFSETFROM:+0200
TZOFFSETTO:+0100
TZNAME:CET
DTSTART:20231029T010000
END:STANDARD
END:VTIMEZONE
BEGIN:VEVENT
DTSTART;TZID=Europe/Rome:20230701T150000
DTEND;TZID=Europe/Rome:20230701T200000
DTSTAMP:20260420T130555
CREATED:20200731T131805Z
LAST-MODIFIED:20230614T191514Z
UID:1960-1688223600-1688241600@www.angeloformicola.com
SUMMARY:Movimenti dell'Anima ed arte di guarigione - ri..congiungersi tra Terra e Cielo
DESCRIPTION: Arte Sacra di Guarigione in cerchio e costellazioni spirituali \nCos’è il Cerchio Sciamanico?  \nIl Cerchio Sciamanico offre l’opportunità di vivere un’esperienza diretta della dimensione spirituale e della propria anima.  Formare un Cerchio e farne parte significa sperimentare queste preziosissime esperienze in uno spazio sacro e protetto nel quale si crea un’unione che va al di là di ogni barriera e pregiudizio a cui siamo abituati quotidianamente. \nIn questi incontri: \n\ncomincerai a conoscere in modo tangibile e concreto come frammenti di te stesso siano rimasti bloccati nel tempo e nello spazio a causa di traumi perosnali e generazionali ed eventi stressanti\, e quanto questi eventi congelati nelle tue memorie possano ridurre la tua energia vitale e condizionare inconsciamente la tua vita\, il tuo lavoro e le tue relazioni in diversi modi.\navrai le chiavi per iniziare a riportare a casa le parti perdute e recuperare la tua integrità attraverso la tua esperienza diretta; \nvivrai esperienze straordinarie del “Nagual” ovvero la dimensione energetica invisibile ai sensi ordinari. \ntroverai uno spazio sacro di accoglienza e fratellanza per costruire nuove e buone relazioni.\n\nConduttore: Angelo Formicola \n \nDove: Milano \nPresso: ERBORISTERIA DE RERUM NATURA \nVia delle forze armate\, 397 \nMILANO \nwww.dererumnaturaerboristeria.com \n  \n  \nInfo e prenotazioni: \nTel/whatsapp 345 745 9772 \nTel. 02 4950 2195 \nsegreteria@yintai.it \nwww.yintai.it \nwww.angeloformicola.com
URL:https://www.angeloformicola.com/event/caccia-all-anima-alla-ricerca-dei-frammenti-perduti/
ATTACH;FMTTYPE=image/jpeg:https://www.angeloformicola.com/wp-content/uploads/2022/12/human-love-spirit-powerful-energy-260nw-1097462351.jpg
END:VEVENT
END:VCALENDAR